Package: ipdDb Version: 1.22.0 Command: rm -rf ipdDb.buildbin-libdir && mkdir ipdDb.buildbin-libdir && /Users/biocbuild/BBS/utils/build-universal.sh ipdDb_1.22.0.tar.gz /Library/Frameworks/R.framework/Resources/bin/R ipdDb.buildbin-libdir StartedAt: 2024-06-11 11:43:45 -0400 (Tue, 11 Jun 2024) EndedAt: 2024-06-11 11:44:21 -0400 (Tue, 11 Jun 2024) EllapsedTime: 35.7 seconds RetCode: 0 Status: OK PackageFile: ipdDb_1.22.0.tgz PackageFileSize: 419 KiB