Package: ipdDb Version: 1.22.0 Command: /Library/Frameworks/R.framework/Resources/bin/R CMD build --keep-empty-dirs --no-resave-data ipdDb StartedAt: 2024-06-09 23:21:52 -0400 (Sun, 09 Jun 2024) EndedAt: 2024-06-09 23:22:21 -0400 (Sun, 09 Jun 2024) EllapsedTime: 29.4 seconds RetCode: 0 Status: OK PackageFile: ipdDb_1.22.0.tar.gz PackageFileSize: 20.87 KiB