Package: ipdDb Version: 1.22.0 Command: /Library/Frameworks/R.framework/Resources/bin/R CMD check --install=check:ipdDb.install-out.txt --library=/Library/Frameworks/R.framework/Resources/library --no-vignettes --timings ipdDb_1.22.0.tar.gz StartedAt: 2024-06-10 19:28:07 -0400 (Mon, 10 Jun 2024) EndedAt: 2024-06-10 19:32:49 -0400 (Mon, 10 Jun 2024) EllapsedTime: 281.9 seconds RetCode: 0 Status: OK CheckDir: ipdDb.Rcheck Warnings: 0