Package: ipdDb Version: 1.22.0 Command: rm -rf ipdDb.buildbin-libdir && mkdir ipdDb.buildbin-libdir && /Users/biocbuild/BBS/utils/build-universal.sh ipdDb_1.22.0.tar.gz /Library/Frameworks/R.framework/Resources/bin/R ipdDb.buildbin-libdir StartedAt: 2024-10-17 16:24:45 -0400 (Thu, 17 Oct 2024) EndedAt: 2024-10-17 16:26:18 -0400 (Thu, 17 Oct 2024) EllapsedTime: 93.1 seconds RetCode: 0 Status: OK PackageFile: ipdDb_1.22.0.tgz PackageFileSize: 419.8 KiB