Package: ipdDb Version: 1.22.0 Command: /home/biocbuild/bbs-3.19-bioc/R/bin/R CMD build --keep-empty-dirs --no-resave-data ipdDb StartedAt: 2024-10-16 19:06:21 -0400 (Wed, 16 Oct 2024) EndedAt: 2024-10-16 19:06:38 -0400 (Wed, 16 Oct 2024) EllapsedTime: 17.0 seconds RetCode: 0 Status: OK PackageFile: ipdDb_1.22.0.tar.gz PackageFileSize: 21.04 KiB