Package: ipdDb Version: 1.22.0 Command: chmod a+r ipdDb -R && E:\biocbuild\bbs-3.19-bioc\R\bin\R.exe CMD build --keep-empty-dirs --no-resave-data ipdDb StartedAt: 2024-10-16 19:52:35 -0400 (Wed, 16 Oct 2024) EndedAt: 2024-10-16 19:53:02 -0400 (Wed, 16 Oct 2024) EllapsedTime: 27.7 seconds RetCode: 0 Status: OK PackageFile: ipdDb_1.22.0.tar.gz PackageFileSize: 21.13 KiB