Package: isobar Version: 1.50.0 Command: /Library/Frameworks/R.framework/Resources/bin/R CMD check --install=check:isobar.install-out.txt --library=/Library/Frameworks/R.framework/Resources/library --no-vignettes --timings isobar_1.50.0.tar.gz StartedAt: 2024-10-18 01:42:11 -0400 (Fri, 18 Oct 2024) EndedAt: 2024-10-18 01:46:01 -0400 (Fri, 18 Oct 2024) EllapsedTime: 229.9 seconds RetCode: 0 Status: WARNINGS CheckDir: isobar.Rcheck Warnings: 2