Package: isobar Version: 1.50.0 Command: /home/biocbuild/R/R-beta-2024-04-15_r86425/bin/R CMD build --keep-empty-dirs --no-resave-data isobar StartedAt: 2024-05-09 01:11:19 -0000 (Thu, 09 May 2024) EndedAt: 2024-05-09 01:12:44 -0000 (Thu, 09 May 2024) EllapsedTime: 85.1 seconds RetCode: 0 Status: OK PackageFile: isobar_1.50.0.tar.gz PackageFileSize: 2.782 MiB