Package: isomiRs Version: 1.32.1 Command: rm -rf isomiRs.buildbin-libdir && mkdir isomiRs.buildbin-libdir && /Users/biocbuild/BBS/utils/build-universal.sh isomiRs_1.32.1.tar.gz /Library/Frameworks/R.framework/Resources/bin/R isomiRs.buildbin-libdir StartedAt: 2024-10-18 19:05:58 -0400 (Fri, 18 Oct 2024) EndedAt: 2024-10-18 19:07:06 -0400 (Fri, 18 Oct 2024) EllapsedTime: 68.5 seconds RetCode: 0 Status: OK PackageFile: isomiRs_1.32.1.tgz PackageFileSize: 2.51 MiB