Package: isomiRs Version: 1.32.1 Command: /Library/Frameworks/R.framework/Resources/bin/R CMD check --install=check:isomiRs.install-out.txt --library=/Library/Frameworks/R.framework/Resources/library --no-vignettes --timings isomiRs_1.32.1.tar.gz StartedAt: 2024-10-18 01:46:01 -0400 (Fri, 18 Oct 2024) EndedAt: 2024-10-18 01:51:34 -0400 (Fri, 18 Oct 2024) EllapsedTime: 333.0 seconds RetCode: 0 Status: OK CheckDir: isomiRs.Rcheck Warnings: 0