Package: isomiRs Version: 1.32.1 Command: /Library/Frameworks/R.framework/Resources/bin/R CMD INSTALL isomiRs StartedAt: 2024-06-09 16:12:53 -0400 (Sun, 09 Jun 2024) EndedAt: 2024-06-09 16:14:01 -0400 (Sun, 09 Jun 2024) EllapsedTime: 68.4 seconds RetCode: 0 Status: OK