Package: isomiRs Version: 1.32.1 Command: /Library/Frameworks/R.framework/Resources/bin/R CMD build --keep-empty-dirs --no-resave-data isomiRs StartedAt: 2024-10-16 20:18:49 -0400 (Wed, 16 Oct 2024) EndedAt: 2024-10-16 20:22:37 -0400 (Wed, 16 Oct 2024) EllapsedTime: 228.3 seconds RetCode: 0 Status: OK PackageFile: isomiRs_1.32.1.tar.gz PackageFileSize: 4.519 MiB