Package: isomiRs Version: 1.32.1 Command: /Library/Frameworks/R.framework/Resources/bin/R CMD INSTALL isomiRs StartedAt: 2024-10-16 15:53:17 -0400 (Wed, 16 Oct 2024) EndedAt: 2024-10-16 15:55:02 -0400 (Wed, 16 Oct 2024) EllapsedTime: 105.3 seconds RetCode: 0 Status: OK