Package: isomiRs Version: 1.32.1 Command: /home/biocbuild/bbs-3.19-bioc/R/bin/R CMD build --keep-empty-dirs --no-resave-data isomiRs StartedAt: 2024-10-16 19:08:38 -0400 (Wed, 16 Oct 2024) EndedAt: 2024-10-16 19:10:05 -0400 (Wed, 16 Oct 2024) EllapsedTime: 87.2 seconds RetCode: 0 Status: OK PackageFile: isomiRs_1.32.1.tar.gz PackageFileSize: 4.228 MiB