Package: isomiRs Version: 1.32.1 Command: /home/biocbuild/bbs-3.19-bioc/R/bin/R CMD INSTALL isomiRs StartedAt: 2024-10-16 16:15:10 -0400 (Wed, 16 Oct 2024) EndedAt: 2024-10-16 16:15:53 -0400 (Wed, 16 Oct 2024) EllapsedTime: 43.0 seconds RetCode: 0 Status: OK