Package: isomiRs Version: 1.32.1 Command: rm -rf isomiRs.buildbin-libdir && mkdir isomiRs.buildbin-libdir && F:\biocbuild\bbs-3.19-bioc\R\bin\R.exe CMD INSTALL --build --library=isomiRs.buildbin-libdir isomiRs_1.32.1.tar.gz StartedAt: 2024-06-27 08:24:20 -0400 (Thu, 27 Jun 2024) EndedAt: 2024-06-27 08:25:33 -0400 (Thu, 27 Jun 2024) EllapsedTime: 72.9 seconds RetCode: 0 Status: OK PackageFile: isomiRs_1.32.1.zip PackageFileSize: 2.038 MiB