Package: isomiRs Version: 1.32.1 Command: F:\biocbuild\bbs-3.19-bioc\R\bin\R.exe CMD INSTALL isomiRs StartedAt: 2024-06-26 16:11:53 -0400 (Wed, 26 Jun 2024) EndedAt: 2024-06-26 16:12:55 -0400 (Wed, 26 Jun 2024) EllapsedTime: 62.5 seconds RetCode: 0 Status: OK