Package: isomiRs Version: 1.32.1 Command: rm -rf isomiRs.buildbin-libdir && mkdir isomiRs.buildbin-libdir && E:\biocbuild\bbs-3.19-bioc\R\bin\R.exe CMD INSTALL --build --library=isomiRs.buildbin-libdir isomiRs_1.32.1.tar.gz StartedAt: 2024-10-17 08:01:11 -0400 (Thu, 17 Oct 2024) EndedAt: 2024-10-17 08:02:19 -0400 (Thu, 17 Oct 2024) EllapsedTime: 67.7 seconds RetCode: 0 Status: OK PackageFile: isomiRs_1.32.1.zip PackageFileSize: 2.038 MiB