Package: isomiRs Version: 1.32.1 Command: chmod a+r isomiRs -R && E:\biocbuild\bbs-3.19-bioc\R\bin\R.exe CMD build --keep-empty-dirs --no-resave-data isomiRs StartedAt: 2024-10-16 19:55:25 -0400 (Wed, 16 Oct 2024) EndedAt: 2024-10-16 19:57:27 -0400 (Wed, 16 Oct 2024) EllapsedTime: 122.4 seconds RetCode: 0 Status: OK PackageFile: isomiRs_1.32.1.tar.gz PackageFileSize: 4.073 MiB