Package: isomiRs Version: 1.32.1 Command: E:\biocbuild\bbs-3.19-bioc\R\bin\R.exe CMD INSTALL isomiRs StartedAt: 2024-10-16 16:45:12 -0400 (Wed, 16 Oct 2024) EndedAt: 2024-10-16 16:46:11 -0400 (Wed, 16 Oct 2024) EllapsedTime: 58.8 seconds RetCode: 0 Status: OK