Package: iterClust Version: 1.26.0 Command: /Library/Frameworks/R.framework/Resources/bin/R CMD check --install=check:iterClust.install-out.txt --library=/Library/Frameworks/R.framework/Resources/library --no-vignettes --timings iterClust_1.26.0.tar.gz StartedAt: 2024-10-18 01:49:39 -0400 (Fri, 18 Oct 2024) EndedAt: 2024-10-18 01:50:31 -0400 (Fri, 18 Oct 2024) EllapsedTime: 52.4 seconds RetCode: 0 Status: OK CheckDir: iterClust.Rcheck Warnings: 0