Package: iterClust Version: 1.26.0 Command: /home/biocbuild/R/R-beta-2024-04-15_r86425/bin/R CMD build --keep-empty-dirs --no-resave-data iterClust StartedAt: 2024-05-09 01:12:42 -0000 (Thu, 09 May 2024) EndedAt: 2024-05-09 01:14:05 -0000 (Thu, 09 May 2024) EllapsedTime: 83.1 seconds RetCode: 0 Status: OK PackageFile: iterClust_1.26.0.tar.gz PackageFileSize: 112.9 KiB