Package: iterativeBMAsurv Version: 1.62.0 Command: /Library/Frameworks/R.framework/Resources/bin/R CMD build --keep-empty-dirs --no-resave-data iterativeBMAsurv StartedAt: 2024-10-16 20:19:03 -0400 (Wed, 16 Oct 2024) EndedAt: 2024-10-16 20:19:58 -0400 (Wed, 16 Oct 2024) EllapsedTime: 55.0 seconds RetCode: 0 Status: OK PackageFile: iterativeBMAsurv_1.62.0.tar.gz PackageFileSize: 197.5 KiB