Package: iterativeBMAsurv Version: 1.62.0 Command: /Library/Frameworks/R.framework/Resources/bin/R CMD INSTALL iterativeBMAsurv StartedAt: 2024-10-16 16:14:25 -0400 (Wed, 16 Oct 2024) EndedAt: 2024-10-16 16:14:40 -0400 (Wed, 16 Oct 2024) EllapsedTime: 14.8 seconds RetCode: 0 Status: OK