Package: iterativeBMAsurv Version: 1.62.0 Command: /home/biocbuild/bbs-3.19-bioc/R/bin/R CMD build --keep-empty-dirs --no-resave-data iterativeBMAsurv StartedAt: 2024-10-16 19:08:55 -0400 (Wed, 16 Oct 2024) EndedAt: 2024-10-16 19:09:12 -0400 (Wed, 16 Oct 2024) EllapsedTime: 17.0 seconds RetCode: 0 Status: OK PackageFile: iterativeBMAsurv_1.62.0.tar.gz PackageFileSize: 197.6 KiB