Package: iterativeBMAsurv Version: 1.62.0 Command: /home/biocbuild/bbs-3.19-bioc/R/bin/R CMD INSTALL iterativeBMAsurv StartedAt: 2024-10-16 16:27:12 -0400 (Wed, 16 Oct 2024) EndedAt: 2024-10-16 16:27:18 -0400 (Wed, 16 Oct 2024) EllapsedTime: 6.3 seconds RetCode: 0 Status: OK