Package: ivygapSE Version: 1.26.0 Maintainer: VJ Carey MaintainerEmail: stvjc at channing.harvard.edu git_url: https://git.bioconductor.org/packages/ivygapSE git_branch: RELEASE_3_19 git_last_commit: 7c4e7c1 git_last_commit_date: 2024-04-30 11:02:04 -0400 (Tue, 30 Apr 2024)