Package: ivygapSE Version: 1.26.0 Command: /Library/Frameworks/R.framework/Resources/bin/R CMD check --install=check:ivygapSE.install-out.txt --library=/Library/Frameworks/R.framework/Resources/library --no-vignettes --timings ivygapSE_1.26.0.tar.gz StartedAt: 2024-10-18 01:50:31 -0400 (Fri, 18 Oct 2024) EndedAt: 2024-10-18 01:54:33 -0400 (Fri, 18 Oct 2024) EllapsedTime: 241.8 seconds RetCode: 0 Status: OK CheckDir: ivygapSE.Rcheck Warnings: 0