Package: ivygapSE Version: 1.26.0 Command: chmod a+r ivygapSE -R && E:\biocbuild\bbs-3.19-bioc\R\bin\R.exe CMD build --keep-empty-dirs --no-resave-data ivygapSE StartedAt: 2024-10-16 19:56:08 -0400 (Wed, 16 Oct 2024) EndedAt: 2024-10-16 19:58:32 -0400 (Wed, 16 Oct 2024) EllapsedTime: 143.9 seconds RetCode: 0 Status: OK PackageFile: ivygapSE_1.26.0.tar.gz PackageFileSize: 15.28 MiB