Package: katdetectr Version: 1.6.0 Command: /Library/Frameworks/R.framework/Resources/bin/R CMD check --install=check:katdetectr.install-out.txt --library=/Library/Frameworks/R.framework/Resources/library --no-vignettes --timings katdetectr_1.6.0.tar.gz StartedAt: 2024-10-18 01:51:34 -0400 (Fri, 18 Oct 2024) EndedAt: 2024-10-18 01:57:41 -0400 (Fri, 18 Oct 2024) EllapsedTime: 367.1 seconds RetCode: 0 Status: OK CheckDir: katdetectr.Rcheck Warnings: 0