Package: katdetectr Version: 1.6.0 Command: /home/biocbuild/bbs-3.19-bioc/R/bin/R CMD build --keep-empty-dirs --no-resave-data katdetectr StartedAt: 2024-10-16 19:09:31 -0400 (Wed, 16 Oct 2024) EndedAt: 2024-10-16 19:10:47 -0400 (Wed, 16 Oct 2024) EllapsedTime: 76.1 seconds RetCode: 0 Status: OK PackageFile: katdetectr_1.6.0.tar.gz PackageFileSize: 1.317 MiB