Package: katdetectr Version: 1.6.0 Command: /home/biocbuild/bbs-3.19-bioc/R/bin/R CMD check --install=check:katdetectr.install-out.txt --library=/home/biocbuild/bbs-3.19-bioc/R/site-library --timings katdetectr_1.6.0.tar.gz StartedAt: 2024-10-17 01:48:10 -0400 (Thu, 17 Oct 2024) EndedAt: 2024-10-17 01:53:54 -0400 (Thu, 17 Oct 2024) EllapsedTime: 343.8 seconds RetCode: 0 Status: OK CheckDir: katdetectr.Rcheck Warnings: 0