Package: katdetectr Version: 1.6.0 Command: rm -rf katdetectr.buildbin-libdir && mkdir katdetectr.buildbin-libdir && E:\biocbuild\bbs-3.19-bioc\R\bin\R.exe CMD INSTALL --build --library=katdetectr.buildbin-libdir katdetectr_1.6.0.tar.gz StartedAt: 2024-10-17 08:01:33 -0400 (Thu, 17 Oct 2024) EndedAt: 2024-10-17 08:02:42 -0400 (Thu, 17 Oct 2024) EllapsedTime: 68.9 seconds RetCode: 0 Status: OK PackageFile: katdetectr_1.6.0.zip PackageFileSize: 937.3 KiB