Package: katdetectr Version: 1.6.0 Command: E:\biocbuild\bbs-3.19-bioc\R\bin\R.exe CMD INSTALL katdetectr StartedAt: 2024-10-16 17:04:51 -0400 (Wed, 16 Oct 2024) EndedAt: 2024-10-16 17:05:44 -0400 (Wed, 16 Oct 2024) EllapsedTime: 52.9 seconds RetCode: 0 Status: OK