Package: keggorthology Version: 2.56.0 Command: rm -rf keggorthology.buildbin-libdir && mkdir keggorthology.buildbin-libdir && /Users/biocbuild/BBS/utils/build-universal.sh keggorthology_2.56.0.tar.gz /Library/Frameworks/R.framework/Resources/bin/R keggorthology.buildbin-libdir StartedAt: 2024-10-18 19:07:48 -0400 (Fri, 18 Oct 2024) EndedAt: 2024-10-18 19:08:10 -0400 (Fri, 18 Oct 2024) EllapsedTime: 21.4 seconds RetCode: 0 Status: OK PackageFile: keggorthology_2.56.0.tgz PackageFileSize: 816.8 KiB