Package: keggorthology Version: 2.56.0 Command: /Library/Frameworks/R.framework/Resources/bin/R CMD build --keep-empty-dirs --no-resave-data keggorthology StartedAt: 2024-10-17 03:09:53 -0400 (Thu, 17 Oct 2024) EndedAt: 2024-10-17 03:10:24 -0400 (Thu, 17 Oct 2024) EllapsedTime: 31.6 seconds RetCode: 0 Status: OK PackageFile: keggorthology_2.56.0.tar.gz PackageFileSize: 787.9 KiB