Package: keggorthology Version: 2.56.0 Command: /Library/Frameworks/R.framework/Resources/bin/R CMD check --install=check:keggorthology.install-out.txt --library=/Library/Frameworks/R.framework/Resources/library --no-vignettes --timings keggorthology_2.56.0.tar.gz StartedAt: 2024-10-18 01:57:27 -0400 (Fri, 18 Oct 2024) EndedAt: 2024-10-18 01:59:20 -0400 (Fri, 18 Oct 2024) EllapsedTime: 113.1 seconds RetCode: 0 Status: OK CheckDir: keggorthology.Rcheck Warnings: 0