Package: keggorthology Version: 2.56.0 Command: /home/biocbuild/R/R-beta-2024-04-15_r86425/bin/R CMD check --install=check:keggorthology.install-out.txt --library=/home/biocbuild/R/R-beta-2024-04-15_r86425/site-library --no-vignettes --timings keggorthology_2.56.0.tar.gz StartedAt: 2024-05-09 08:47:53 -0000 (Thu, 09 May 2024) EndedAt: 2024-05-09 08:49:50 -0000 (Thu, 09 May 2024) EllapsedTime: 117.2 seconds RetCode: 0 Status: OK CheckDir: keggorthology.Rcheck Warnings: 0