Package: keggorthology Version: 2.56.0 Command: /Library/Frameworks/R.framework/Resources/bin/R CMD build --keep-empty-dirs --no-resave-data keggorthology StartedAt: 2024-10-16 20:21:36 -0400 (Wed, 16 Oct 2024) EndedAt: 2024-10-16 20:22:37 -0400 (Wed, 16 Oct 2024) EllapsedTime: 61.3 seconds RetCode: 0 Status: OK PackageFile: keggorthology_2.56.0.tar.gz PackageFileSize: 787.9 KiB