Package: keggorthology Version: 2.56.0 Command: /Library/Frameworks/R.framework/Resources/bin/R CMD INSTALL keggorthology StartedAt: 2024-10-16 15:33:37 -0400 (Wed, 16 Oct 2024) EndedAt: 2024-10-16 15:34:09 -0400 (Wed, 16 Oct 2024) EllapsedTime: 31.6 seconds RetCode: 0 Status: OK