Package: keggorthology Version: 2.56.0 Command: chmod a+r keggorthology -R && E:\biocbuild\bbs-3.19-bioc\R\bin\R.exe CMD build --keep-empty-dirs --no-resave-data keggorthology StartedAt: 2024-10-16 19:57:24 -0400 (Wed, 16 Oct 2024) EndedAt: 2024-10-16 19:58:02 -0400 (Wed, 16 Oct 2024) EllapsedTime: 37.7 seconds RetCode: 0 Status: OK PackageFile: keggorthology_2.56.0.tar.gz PackageFileSize: 656.3 KiB