Package: keggorthology Version: 2.56.0 Command: E:\biocbuild\bbs-3.19-bioc\R\bin\R.exe CMD check --no-multiarch --install=check:keggorthology.install-out.txt --library=E:\biocbuild\bbs-3.19-bioc\R\library --no-vignettes --timings keggorthology_2.56.0.tar.gz StartedAt: 2024-10-17 02:43:07 -0400 (Thu, 17 Oct 2024) EndedAt: 2024-10-17 02:44:56 -0400 (Thu, 17 Oct 2024) EllapsedTime: 109.5 seconds RetCode: 0 Status: OK CheckDir: keggorthology.Rcheck Warnings: 0