Package: knowYourCG Version: 1.0.0 Command: rm -rf knowYourCG.buildbin-libdir && mkdir knowYourCG.buildbin-libdir && /Users/biocbuild/BBS/utils/build-universal.sh knowYourCG_1.0.0.tar.gz /Library/Frameworks/R.framework/Resources/bin/R knowYourCG.buildbin-libdir StartedAt: 2024-10-18 19:08:21 -0400 (Fri, 18 Oct 2024) EndedAt: 2024-10-18 19:08:47 -0400 (Fri, 18 Oct 2024) EllapsedTime: 26.2 seconds RetCode: 0 Status: OK PackageFile: knowYourCG_1.0.0.tgz PackageFileSize: 1.103 MiB