Package: knowYourCG Version: 1.0.0 Command: /Library/Frameworks/R.framework/Resources/bin/R CMD build --keep-empty-dirs --no-resave-data knowYourCG StartedAt: 2024-10-17 03:10:59 -0400 (Thu, 17 Oct 2024) EndedAt: 2024-10-17 03:13:32 -0400 (Thu, 17 Oct 2024) EllapsedTime: 152.8 seconds RetCode: 0 Status: OK PackageFile: knowYourCG_1.0.0.tar.gz PackageFileSize: 1.049 MiB