Package: knowYourCG Version: 1.0.0 Command: /home/biocbuild/R/R-beta-2024-04-15_r86425/bin/R CMD build --keep-empty-dirs --no-resave-data knowYourCG StartedAt: 2024-05-09 01:14:41 -0000 (Thu, 09 May 2024) EndedAt: 2024-05-09 01:17:49 -0000 (Thu, 09 May 2024) EllapsedTime: 188.3 seconds RetCode: 0 Status: OK PackageFile: knowYourCG_1.0.0.tar.gz PackageFileSize: 1.164 MiB