Package: knowYourCG Version: 1.0.0 Command: /Library/Frameworks/R.framework/Resources/bin/R CMD build --keep-empty-dirs --no-resave-data knowYourCG StartedAt: 2024-06-09 17:05:26 -0400 (Sun, 09 Jun 2024) EndedAt: 2024-06-09 17:07:29 -0400 (Sun, 09 Jun 2024) EllapsedTime: 123.9 seconds RetCode: 0 Status: OK PackageFile: knowYourCG_1.0.0.tar.gz PackageFileSize: 1.043 MiB