Package: knowYourCG Version: 1.0.0 Command: /Library/Frameworks/R.framework/Resources/bin/R CMD build --keep-empty-dirs --no-resave-data knowYourCG StartedAt: 2024-10-16 20:22:25 -0400 (Wed, 16 Oct 2024) EndedAt: 2024-10-16 20:26:31 -0400 (Wed, 16 Oct 2024) EllapsedTime: 246.1 seconds RetCode: 0 Status: OK PackageFile: knowYourCG_1.0.0.tar.gz PackageFileSize: 1.049 MiB