Package: knowYourCG Version: 1.0.0 Command: /home/biocbuild/bbs-3.19-bioc/R/bin/R CMD build --keep-empty-dirs --no-resave-data knowYourCG StartedAt: 2024-10-16 19:10:47 -0400 (Wed, 16 Oct 2024) EndedAt: 2024-10-16 19:12:33 -0400 (Wed, 16 Oct 2024) EllapsedTime: 105.3 seconds RetCode: 0 Status: OK PackageFile: knowYourCG_1.0.0.tar.gz PackageFileSize: 1.049 MiB