Package: knowYourCG Version: 1.0.0 Command: chmod a+r knowYourCG -R && F:\biocbuild\bbs-3.19-bioc\R\bin\R.exe CMD build --keep-empty-dirs --no-resave-data knowYourCG StartedAt: 2024-06-26 19:43:09 -0400 (Wed, 26 Jun 2024) EndedAt: 2024-06-26 19:45:57 -0400 (Wed, 26 Jun 2024) EllapsedTime: 168.7 seconds RetCode: 0 Status: OK PackageFile: knowYourCG_1.0.0.tar.gz PackageFileSize: 1.044 MiB