Package: lapmix Version: 1.70.0 Command: /home/biocbuild/R/R-beta-2024-04-15_r86425/bin/R CMD build --keep-empty-dirs --no-resave-data lapmix StartedAt: 2024-05-09 01:14:49 -0000 (Thu, 09 May 2024) EndedAt: 2024-05-09 01:14:57 -0000 (Thu, 09 May 2024) EllapsedTime: 8.0 seconds RetCode: 0 Status: OK PackageFile: lapmix_1.70.0.tar.gz PackageFileSize: 341.7 KiB